BEGIN:VCALENDAR
VERSION:2.0
PRODID:-//My Community Diary//iCal Event//EN
CALSCALE:GREGORIAN
METHOD:PUBLISH
BEGIN:VEVENT
UID:59c99f77-24fd-4ac9-8583-bfb7ee2be37f
DTSTAMP:20260424T160107Z
DTSTART;TZID=E. Australia Standard Time:20200618T153000
DTEND;TZID=E. Australia Standard Time:20200618T163000
SUMMARY:Acrobatics
DESCRIPTION:Handstand\, cartwheel and create&nbsp\;human pyramids in this fun skill building class. Suitable for beginner primary school students and those wanting to build on their skills.\n
LOCATION:Hapy Studio\, Currumbin QLD\, Australia\, QLD\, 4223
RRULE:FREQ=DAILY;INTERVAL=1
END:VEVENT
END:VCALENDAR
