BEGIN:VCALENDAR
VERSION:2.0
PRODID:-//My Community Diary//iCal Event//EN
CALSCALE:GREGORIAN
METHOD:PUBLISH
BEGIN:VEVENT
UID:02308d76-c380-461c-aa90-b982f3ac43ac
DTSTAMP:20260424T160625Z
DTSTART;TZID=E. Australia Standard Time:20200618T160000
DTEND;TZID=E. Australia Standard Time:20200618T163000
SUMMARY:Kid's Aerial Yoga
DESCRIPTION:Float in a hammock as you move through yoga poses and find deep relaxation.\n
LOCATION:Hapy Studio\, Currumbin QLD\, Australia\, QLD\, 4223
RRULE:FREQ=DAILY;INTERVAL=1
END:VEVENT
END:VCALENDAR
