BEGIN:VCALENDAR
VERSION:2.0
PRODID:-//My Community Diary//iCal Event//EN
CALSCALE:GREGORIAN
METHOD:PUBLISH
BEGIN:VEVENT
UID:2d0cd30e-5d27-44b7-bfac-d49351525b84
DTSTAMP:20260424T160640Z
DTSTART;TZID=E. Australia Standard Time:20200511T090000
DTEND;TZID=E. Australia Standard Time:20200511T120000
SUMMARY:Homeless Support
DESCRIPTION:Free public shower\, toiletries ect supplied \, free meal free food pack.&nbsp\;\n
LOCATION:Loganlea Community Centre\, 28-32 Timms St\, Loganlea QLD 4131\, QLD\, 4131
RRULE:FREQ=WEEKLY;INTERVAL=1;BYDAY=MO,TU,TH
END:VEVENT
END:VCALENDAR
