BEGIN:VCALENDAR
VERSION:2.0
PRODID:-//My Community Diary//iCal Event//EN
CALSCALE:GREGORIAN
METHOD:PUBLISH
BEGIN:VEVENT
UID:707f029f-46e6-49b7-bb89-71419d3a352a
DTSTAMP:20260422T021746Z
DTSTART;VALUE=DATE:20200416
DTEND;VALUE=DATE:20200417
SUMMARY:Building Connections online
DESCRIPTION:Building Connections® available online\n\nInterrelate’s Building Connections® program for separated parents who are struggling to focus on what is best for their children is now available online in two different modalities: self-paced and group facilitated.&nbsp\;\n&nbsp\;\n\nKey outcomes of the program\n\nParticipants will learn:\n\n\n	the effects of family separation and the impact of parental conflict on children\n	the importance of looking after themselves post separation\n	to improve their communication with the other parent\n	how to be a more effective parent\n	about support services available to help deal with the fall-out from family separation or divorce.\n\n
LOCATION:Interrelate - Port Macquarie\, 1-5 Merrymen Way\, Port Macquarie NSW 2444\, NSW\, 2444
RRULE:FREQ=DAILY;INTERVAL=1
END:VEVENT
END:VCALENDAR
