BEGIN:VCALENDAR
VERSION:2.0
PRODID:-//My Community Diary//iCal Event//EN
CALSCALE:GREGORIAN
METHOD:PUBLISH
BEGIN:VEVENT
UID:d15a2ce4-ef22-4e18-8839-173d08beef2e
DTSTAMP:20260424T164558Z
DTSTART;VALUE=DATE:20200402
DTEND;VALUE=DATE:20200403
SUMMARY:Cancellation 
DESCRIPTION:Riding for the Disabled Wauchope/Port Macquarie Centre is currently suspended till the health crisis is over. We will however continue to take enquires&nbsp\;\n
LOCATION:Riding For The Disabled Association Nsw The Wauchope / Port Macquarie Centre\, 93A High Street\, Wauchope NSW 2446\, NSW\, 2446
RRULE:FREQ=DAILY;INTERVAL=1
END:VEVENT
END:VCALENDAR
