BEGIN:VCALENDAR
VERSION:2.0
PRODID:-//My Community Diary//iCal Event//EN
CALSCALE:GREGORIAN
METHOD:PUBLISH
BEGIN:VEVENT
UID:db373f75-8dc6-4bfb-92b6-f019b8b1a0ef
DTSTAMP:20260424T160019Z
DTSTART;TZID=E. Australia Standard Time:20200330T190000
DTEND;TZID=E. Australia Standard Time:20200330T203000
SUMMARY:DigiAsk by Churches of Christ Housing Services 
DESCRIPTION:DigiAsk is a Churches of Christ Housing Services initiative that allows you to get online and utilise tools and services that&nbsp\;you may otherwise have difficulty accessing or navigating.\n\nAll assistance we offer is free. Our services include:\n\n\n	Wi-Fi access\n	Computer/tablet usage\n	Device charging&nbsp\;(phone\, power bank\, etc.)\n	Access to Centrelink and MyGov (to update details&nbsp\;and&nbsp\;report your earnings) and other governmental services\n	Job search help\n	General device maintenance\n	\n		Replacing and activating SIM cards\n		Accessing important apps such as banking and health apps\n	\n	\n	General internet access and advice\n	\n		Create and manage emails and other online accounts\n		Digitally store and backup important documents\n	\n	\n\n\nYou can come visit us in the DigiVan at any of our locations and meet our team of volunteers who offer one-on-one assistance to all patrons. If you have a question that is not listed above\, chances are we will still be able to assist you with it.\n\n&nbsp\;\n
LOCATION:\, Emma Miller Place\, Roma Street\, Brisbane City QLD\, Australia\, QLD\, 4000
RRULE:FREQ=WEEKLY;INTERVAL=1;BYDAY=TU;UNTIL=20220126T000000Z
END:VEVENT
END:VCALENDAR
