BEGIN:VCALENDAR
VERSION:2.0
PRODID:-//My Community Diary//iCal Event//EN
CALSCALE:GREGORIAN
METHOD:PUBLISH
BEGIN:VEVENT
UID:c8b22c2d-049b-4728-901f-bbff8ca4591d
DTSTAMP:20260424T160000Z
DTSTART:20210516T080000Z
DTEND:20210516T170000Z
SUMMARY:General Practitioner - Womens Health - Texas
DESCRIPTION:True Relationships & Reproductive Health at Texas Multipurpose Health Service. Please confirm precise times with the service provider.
LOCATION:\, Mingoola Road\, Texas\, QLD\, 4385\, QLD\, 4385
END:VEVENT
END:VCALENDAR
