BEGIN:VCALENDAR
VERSION:2.0
PRODID:-//My Community Diary//iCal Event//EN
CALSCALE:GREGORIAN
METHOD:PUBLISH
BEGIN:VEVENT
UID:81ff4c95-9c48-45fe-a1dd-13304286a3e2
DTSTAMP:20260424T160648Z
DTSTART;TZID=E. Australia Standard Time:20200306T090000
DTEND;TZID=E. Australia Standard Time:20200306T110000
SUMMARY:Free Lawn Bowls Coaching
DESCRIPTION:Playing Lawn Bowls is a fabulous way to keep fit &amp\; meet new people\, whether for fun or for competition &amp\; our accredited coaches hold a&nbsp\;FREE&nbsp\;Coaching Clinic every Friday morning from 9am for all who might be interested in learning to play Lawn Bowls. Private clinics may also be arranged for those with disabilities &amp\; children. Please phone the Club for more details.\n
LOCATION:Nerang Community Bowls Club Inc\, 20 Cayuga Street Nerang QLD 4211\, QLD\, 4211
RRULE:FREQ=WEEKLY;INTERVAL=1;BYDAY=FR
END:VEVENT
END:VCALENDAR
