BEGIN:VCALENDAR
VERSION:2.0
PRODID:-//My Community Diary//iCal Event//EN
CALSCALE:GREGORIAN
METHOD:PUBLISH
BEGIN:VEVENT
UID:618b7813-f434-4cf8-acb1-7a5169077f99
DTSTAMP:20260422T000952Z
DTSTART;TZID=E. Australia Standard Time:20250718T153000
DTEND;TZID=E. Australia Standard Time:20250718T173000
SUMMARY:Fun-damentals
DESCRIPTION:Friday Fun-damentals:&nbsp\; Learn basic Old Time and New Vogue Dances done locally.\n
LOCATION:TOOWOOMBA SENIOR CITIZENS CLUB\, 39 Victoria Street\, Toowoomba City QLD 4350\, QLD\, 4350
RRULE:FREQ=WEEKLY;INTERVAL=1;BYDAY=FR
END:VEVENT
END:VCALENDAR
