BEGIN:VCALENDAR
VERSION:2.0
PRODID:-//My Community Diary//iCal Event//EN
CALSCALE:GREGORIAN
METHOD:PUBLISH
BEGIN:VEVENT
UID:222a2448-2ca0-4255-980e-d02da637eb12
DTSTAMP:20260422T000648Z
DTSTART;TZID=E. Australia Standard Time:20200304T110000
DTEND;TZID=E. Australia Standard Time:20200304T130000
SUMMARY:Darts
DESCRIPTION:Social Darts\n
LOCATION:TOOWOOMBA SENIOR CITIZENS CLUB\, 39 Victoria Street\, Toowoomba City QLD 4350\, QLD\, 4350
RRULE:FREQ=WEEKLY;INTERVAL=1;BYDAY=WE
END:VEVENT
END:VCALENDAR
