BEGIN:VCALENDAR
VERSION:2.0
PRODID:-//My Community Diary//iCal Event//EN
CALSCALE:GREGORIAN
METHOD:PUBLISH
BEGIN:VEVENT
UID:9bfb091a-61c3-477f-9316-29f5a5a7b974
DTSTAMP:20260422T015726Z
DTSTART;TZID=E. Australia Standard Time:20250622T083000
DTEND;TZID=E. Australia Standard Time:20250622T110000
SUMMARY:Indoor Bowls
DESCRIPTION:Indoor Bowls&nbsp\;\n
LOCATION:TOOWOOMBA SENIOR CITIZENS CLUB\, 39 Victoria Street\, Toowoomba City QLD 4350\, QLD\, 4350
RRULE:FREQ=WEEKLY;INTERVAL=1;BYDAY=TU
END:VEVENT
END:VCALENDAR
