BEGIN:VCALENDAR
VERSION:2.0
PRODID:-//My Community Diary//iCal Event//EN
CALSCALE:GREGORIAN
METHOD:PUBLISH
BEGIN:VEVENT
UID:b85fe5f0-59d2-48d5-abc8-1d22b17c1f88
DTSTAMP:20260424T160648Z
DTSTART:20230721T020000Z
DTEND:20230721T210000Z
SUMMARY:River Heads Rocks
DESCRIPTION:A weekend of camping  and music in a boutique campground. They look forward to welcoming you in 2024 when Boomers Unite for this exciting weekend of live music.   \n\nThis is an amazing weekend due to limited camping spots.  River Heads Rocks do not want to overcrowd everyone\, and there are only 300 tickets available. They specialise in quality\, not quantity\, and they intend to keep that focus on their business. \n\nRiver Heads Rocks are an all-inclusive RV Park with wheelchair access facilities and is pet-friendly.\n\nEntry Cost\nAdult $120  - Catering on site.\nNo alcohol available at the event - bring your own.\n\nLimited camping available on site at Fraser Coast RV Park.  Bookings essential.\nCamping tickets are $120 & include 2 nights camping & music.
LOCATION:\, 54 Bengtson Road\, River Heads\, QLD 4655\, QLD\, 4655
RRULE:FREQ=DAILY;INTERVAL=1;UNTIL=20240722T000000Z
END:VEVENT
END:VCALENDAR
