BEGIN:VCALENDAR
VERSION:2.0
PRODID:-//My Community Diary//iCal Event//EN
CALSCALE:GREGORIAN
METHOD:PUBLISH
BEGIN:VEVENT
UID:dbb8cc2c-b81b-4eae-a2e2-e37d70219e0b
DTSTAMP:20260424T161012Z
DTSTART;TZID=E. Australia Standard Time:20200227T170000
DTEND;TZID=E. Australia Standard Time:20200227T190000
SUMMARY:Hope Starts Here - Community Feed 
DESCRIPTION:Our aim is to Feed Homeless and Disadvantaged on Thursday evening 5pm to 7pm at Room 3G Southport Community Centre\, Lawson Street\, Southport.\n
LOCATION:Hope Starts Here\, Lawson Street\, Southport QLD 4215\, QLD\, 4215
RRULE:FREQ=WEEKLY;INTERVAL=1;BYDAY=TH;UNTIL=20231222T000000Z
END:VEVENT
END:VCALENDAR
