BEGIN:VCALENDAR
VERSION:2.0
PRODID:-//My Community Diary//iCal Event//EN
CALSCALE:GREGORIAN
METHOD:PUBLISH
BEGIN:VEVENT
UID:3303cde6-86fd-41ca-acbc-29aaee95ad40
DTSTAMP:20260424T173211Z
DTSTART;TZID=AUS Eastern Standard Time:20200417T090000
DTEND;TZID=AUS Eastern Standard Time:20200417T110000
SUMMARY:Coffs By Nature - Explorer's Club
DESCRIPTION:About This Event\n\nJoin Coffs By Nature and the Centre for Ecological Learning for an eco-outing at the Coffs Regional Botanic Gardens for a morning of re-wilding and reconnecting with nature. This will be a fantastic opportunity to engage with the non-screen environment of the great outdoors where we will amaze and inspire you with everything Mother Nature has to offer.\n\nAges 6-12 years *Legal guardians must accompany children attending tour.\n\nLocation: Meet at Coffs Regional Botanic Gardens\n\nAccessibility:\n\n\n	Accessible parking\n	Accessible toilets\n	Accessible outdoor seating\n	Accessible paths for wheelchairs and prams\n\n\nContact details:\n\nElisabeth Nicolson\n\nambassadors@chcc.nsw.gov.au\n\n04 17 489 304\n\n\nTicket Bookings\n\nPlease follow the link below to book a ticket for this event:\n\nhttps://www.eventbrite.com.au/e/coffs-by-nature-explorers-club-6-12-years-tickets-95547624517\n
LOCATION:Coffs Regional Botanic Gardens\, North Coast Regional Botanic Garden\, Coffs Harbour NSW\, Australia\, NSW\, 2450
END:VEVENT
END:VCALENDAR
