BEGIN:VCALENDAR
VERSION:2.0
PRODID:-//My Community Diary//iCal Event//EN
CALSCALE:GREGORIAN
METHOD:PUBLISH
BEGIN:VEVENT
UID:80062659-7ed3-4a28-ae11-075b78af3d87
DTSTAMP:20260424T173609Z
DTSTART;TZID=AUS Eastern Standard Time:20200328T090000
DTEND;TZID=AUS Eastern Standard Time:20200328T110000
SUMMARY:*Postponed* Coffs By Nature - Nature Journaling
DESCRIPTION:About this Event\n\nNature Journaling is simply writing\, drawing\, collaging or painting in response to what you see around you. It is a great way to connect with nature\, slow down\, appreciate simple beauty and be creative. Not ‘creative’? No problem\, there is no ‘right way’ to do it and we will show you how to uncover your own way.\n\nIn this session you will be guided through a series of exercises and prompts that will introduce you to the practice of Nature Journaling and give you the confidence to begin your own unique nature journal.\n\nWe will conclude this tour with the opportunity to attend the current exhibition An Artist's Garden at the Coffs Harbour Regional Gallery.\n\nLocation:&nbsp\;Meet at the Coffs Harbour Regional Botanic Gardens. Location&nbsp\;may change\, so please keep updated by checking your e-mail and mobile number used to make booking.\n\nAccessibility:\n\n\n	Accessible entrance\n	Wheelchair accessible paths\n	Stroller friendly\n	Accessible outdoor seating\n	Accessible parking\n\n\nSuitable for ages 10 and above.\n\nContact details:\n\nMaddey Leigh\n\nmadeleine.leigh@chcc.nsw.gov.au\n\n04 17 489 304\n\nTicket Bookings\n\nPlease follow the link below to book a ticket for this event through Eventbrite:\n\nhttps://www.eventbrite.com.au/e/coffs-by-nature-nature-journaling-tickets-94338949337\n
LOCATION:Coffs Regional Botanic Gardens\, North Coast Regional Botanic Garden\, Coffs Harbour NSW\, Australia\, NSW\, 2450
END:VEVENT
END:VCALENDAR
