BEGIN:VCALENDAR
VERSION:2.0
PRODID:-//My Community Diary//iCal Event//EN
CALSCALE:GREGORIAN
METHOD:PUBLISH
BEGIN:VEVENT
UID:b3626c38-b962-42f8-b9c4-1f90d0f0bf41
DTSTAMP:20260422T000645Z
DTSTART;TZID=AUS Eastern Standard Time:20200225T090000
DTEND;TZID=AUS Eastern Standard Time:20200225T120000
SUMMARY:Community Gardens
DESCRIPTION:&nbsp\;\n\nLearn how to grow your own food using organic farming methods. Contact 65554531 or drop in on a Tuesday morning and ask for Robynn.\n\nThe Community Gardens is a CovidSafe event.\n
LOCATION:FORSTER NEIGHBOURH00D CENTRE - Forster\, Little Street\, Forster NSW 2428\, NSW\, 2428
RRULE:FREQ=WEEKLY;INTERVAL=1;BYDAY=TU
END:VEVENT
END:VCALENDAR
