BEGIN:VCALENDAR
VERSION:2.0
PRODID:-//My Community Diary//iCal Event//EN
CALSCALE:GREGORIAN
METHOD:PUBLISH
BEGIN:VEVENT
UID:35097d9f-2516-4c77-8906-0d9842e9d635
DTSTAMP:20260424T173609Z
DTSTART;TZID=AUS Eastern Standard Time:20200307T090000
DTEND;TZID=AUS Eastern Standard Time:20200307T110000
SUMMARY:Coffs By Nature - Sea Turtle Tour
DESCRIPTION:About This Event\n\nA guided walk along the Look At Me Now Headland learning about the fascinating world of Sea Turtles.\n\nHave you ever wondered about the mysteries of the Sea Turtle? Where do they live? What do they eat? When do they lay eggs and emerge as babies from the sands? This walk along the pathways of Look at Me Now Headland aims to answer these questions and perhaps inspire you to be more mindful of the mysteries of the Sea Turtle in all aspects of your life.\n\nAges 7 and above.\n\nLocation: Meet at the Look-at-me-now Headland car park at the end of Dammerel Crescent. Location may change\, so please keep updated by checking your e-mail and mobile number used to make booking.\n\nAccessibility:\n-Stroller friendly (for half of the walk\, there are stairs at the end)\n-Accessible parking\n-Wheelchair access (for half of the walk)\n\nContact details:\nMaddey Leigh\nmadeleine.leigh@chcc.nsw.gov.au\n04 174 89 304\n\nTicket Bookings\n\nPlease follow the link below to book your ticket for this tour:\n\nhttps://www.eventbrite.com.au/e/coffs-by-nature-sea-turtle-walk-tickets-95521642805\n
LOCATION:Look At Me Now Headland\, Emerald Beach\, Look At Me Now Headland\, Emerald Beach NSW\, Australia\, NSW\, 2456
END:VEVENT
END:VCALENDAR
