BEGIN:VCALENDAR
VERSION:2.0
PRODID:-//My Community Diary//iCal Event//EN
CALSCALE:GREGORIAN
METHOD:PUBLISH
BEGIN:VEVENT
UID:5a22118e-eaa3-4faa-964a-ce50de503319
DTSTAMP:20260421T205508Z
DTSTART;TZID=AUS Eastern Standard Time:20210105T101500
DTEND;TZID=AUS Eastern Standard Time:20210105T113000
SUMMARY:Ninja Nannies Exercise Group for over 65's
DESCRIPTION:WE ARE BACK! COME AND JOIN US!\n\nNinja Exercise Group for over 65's with Master Fay Shacklock. Free stretching and strength-building&nbsp\;classes are held at the&nbsp\;Lone Pine Memorial Park\, Tuncurry from 10.20 am to 11.20 am.\n\nNo need to book - just turn up and introduce yourself to the instructor.\n\nSponsored by Musculoskeletal Naustralia through their Active Neighbourhoods for Older Australians grant.\n\nThe Ninja Nannies programs is a CovidSafe event.\n\n&nbsp\;\n
LOCATION:\, Lone Pine Memorial Park\, Manning Street\, Tuncurry NSW\, Australia\, NSW\, 2428
RRULE:FREQ=WEEKLY;INTERVAL=1;BYDAY=WE
END:VEVENT
END:VCALENDAR
