BEGIN:VCALENDAR
VERSION:2.0
PRODID:-//My Community Diary//iCal Event//EN
CALSCALE:GREGORIAN
METHOD:PUBLISH
BEGIN:VEVENT
UID:93531833-1e8b-434f-adff-fc8e4d4dec74
DTSTAMP:20260424T164722Z
DTSTART;TZID=E. Australia Standard Time:20200311T131500
DTEND;TZID=E. Australia Standard Time:20200311T151500
SUMMARY:RFDS General Practice - Stonehenge
DESCRIPTION:The RFDS General Practice service held in rural and remote areas from Charleville bythe Royal Flying Doctor Service (Queensland Section) There is no out-of-pocket expense to patients using this service. The RFDS General Practice service is available to ev\n
LOCATION:\, Stonehenge QLD\, Australia\, QLD\, 4730
RRULE:FREQ=WEEKLY;INTERVAL=2;BYDAY=WE
END:VEVENT
END:VCALENDAR
