BEGIN:VCALENDAR
VERSION:2.0
PRODID:-//My Community Diary//iCal Event//EN
CALSCALE:GREGORIAN
METHOD:PUBLISH
BEGIN:VEVENT
UID:dd2e07b0-5a25-43c2-8262-3d4102e9f723
DTSTAMP:20260424T160021Z
DTSTART;TZID=E. Australia Standard Time:20200311T084500
DTEND;TZID=E. Australia Standard Time:20200311T111500
SUMMARY:RFDS General Practice - Yaraka
DESCRIPTION:The RFDS General Practice service held in rural and remote areas from Charleville by the Royal Flying Doctor Service (Queensland Section) There is no out-of-pocket expense to patients using this service. The RFDS General Practice service is available to everyone living\, working and travelling in rural and remote Australia. Appointments are limited and subject to availability.\n
LOCATION:\, Yaraka - The Hall\, Isisford QLD\, Australia\, QLD\, 4731
RRULE:FREQ=WEEKLY;INTERVAL=2;BYDAY=WE
END:VEVENT
END:VCALENDAR
