BEGIN:VCALENDAR
VERSION:2.0
PRODID:-//My Community Diary//iCal Event//EN
CALSCALE:GREGORIAN
METHOD:PUBLISH
BEGIN:VEVENT
UID:afced0f5-b323-4758-9e40-c34ba1f0d1aa
DTSTAMP:20260424T160637Z
DTSTART;TZID=E. Australia Standard Time:20200310T090000
DTEND;TZID=E. Australia Standard Time:20200310T151500
SUMMARY:RFDS General Practice - Windorah
DESCRIPTION:The RFDS General Practice service held in rural and remote areas from Charleville by the Royal Flying Doctor Service (Queensland Section) There is no out-of-pocket expense to patients using this service. The RFDS General Practice service is available to everyone living\, working and travelling in rural and remote Australia. Appointments are limited and subject to availability.\n
LOCATION:\, Windorah QLD\, Australia\, QLD\, 4481
RRULE:FREQ=WEEKLY;INTERVAL=2;BYDAY=TU
END:VEVENT
END:VCALENDAR
