BEGIN:VCALENDAR
VERSION:2.0
PRODID:-//My Community Diary//iCal Event//EN
CALSCALE:GREGORIAN
METHOD:PUBLISH
BEGIN:VEVENT
UID:1a114154-4e9f-4b2e-beb2-faca28347c2b
DTSTAMP:20260424T155033Z
DTSTART;TZID=E. Australia Standard Time:20200306T130000
DTEND;TZID=E. Australia Standard Time:20200306T151500
SUMMARY:RFDS General Practice - Yowah
DESCRIPTION:The RFDS General Practice service held in rural and remote areas from Charleville bythe Royal Flying Doctor Service (Queensland Section) There is no out-of-pocket expense to patients using this service. The RFDS General Practice service is available to everyone living\, working and travelling in rural and remote Australia. Appointments are limited and subject to availability.\n
LOCATION:\, Yowah QLD\, Australia\, QLD\, 4490
RRULE:FREQ=WEEKLY;INTERVAL=2;BYDAY=FR
END:VEVENT
END:VCALENDAR
