BEGIN:VCALENDAR
VERSION:2.0
PRODID:-//My Community Diary//iCal Event//EN
CALSCALE:GREGORIAN
METHOD:PUBLISH
BEGIN:VEVENT
UID:09042a42-7b05-494d-84c4-095e87db0ae0
DTSTAMP:20260424T175555Z
DTSTART;TZID=AUS Eastern Standard Time:20200324T180000
DTEND;TZID=AUS Eastern Standard Time:20200324T200000
SUMMARY:Jenn J. McLeod Author Talk CANCELLED
DESCRIPTION:&nbsp\;\n\nCHCC update regarding the Novel Coronavirus (COVID-19) pandemic:\n\nThe safety and wellbeing of our employees\, volunteers and customers is a priority for Coffs Harbour City Council and we are following the advice of the Australian Government\, World Health Organisation (WHO) and NSW Health in the implementation of workplace measures to help minimise any possible infections. Council is taking a risk management approach to the pandemic and seeking to minimise any potential impact.\n\nAs result all Council events and public programs run in our facilities have been postponed or suspended until the situation is reviewed again on 14 April 2020.\n\nWe please ask that if you are showing any of the symptoms of COVID-19\, or have been in contact with anyone who has been diagnosed or showing symptoms of COVID-19\, that you not use a Council facility at this time.\n\nFor more information visit: https://www.news.coffsharbour.nsw.gov.au/2020/03/16/councils-novel-coronavirus-covid-19-safety-measures/\n\nThree wishes\, three mothers\, three generations. A story about the choices we make\, the connections that matter\, the secrets we keep\, and the power of a wish...\n\nDandelion House\, 1974 : Two teenage girls—strangers—make a pact to keep a secret.\n\nCalingarry Crossing\, 2014: For forty years\, Beth and her mum have been everything to each other\, but Beth is blind-sided when her mother dies\, and her last wish is to have her ashes spread in a small-town cemetery. On the outskirts of Calingarry Crossing\, when Beth comes across a place called Dandelion House Retreat\, her first thought is how appealing the name sounds. With her stage career waning\, and struggling to see a future without her mum\, her marriage\, and her child\, she hopes it’s a place where she can begin to heal.\n\nCome along and be inspired by Jenn's latest novel and passion for writing.\n\nBook Warehouse will have books from the authors available for purchase &amp\; signing.Light refreshments provided.\n\nBook here\n\n&nbsp\;\n
LOCATION:Harry Bailey Memorial Library\, 27 Duke Street\, Coffs Harbour NSW 2450\, NSW\, 2450
END:VEVENT
END:VCALENDAR
