BEGIN:VCALENDAR
VERSION:2.0
PRODID:-//My Community Diary//iCal Event//EN
CALSCALE:GREGORIAN
METHOD:PUBLISH
BEGIN:VEVENT
UID:b14dd763-967b-449b-9c60-e4ece49df522
DTSTAMP:20260424T181900Z
DTSTART;TZID=AUS Eastern Standard Time:20200418T110000
DTEND;TZID=AUS Eastern Standard Time:20200418T150000
SUMMARY:Still Life Exhibition
DESCRIPTION:An open exhibition with a focus on the Art of Still Life.&nbsp\;\n\nThe exhibition is open to all at a cost of $15 for members and $20 for non-members. All mediums and styles accepted with prizes awarded in both modern &amp\; traditional categories. &nbsp\;Maximum of 4 entries pp under 400cm perimeter including frame. Pictures up to 1000cm in perimeter limit of 2.&nbsp\; Larger entries will be subject to the approval of the committee\, space is limited\, and we need to ensure all entries are displayed to their best. Pay by Direct Deposit to BSB- 533000 Account No- 72128&nbsp\; Ref – “SL Your Name”.\n
LOCATION:Sawtell Art Group\, 1 Lyons Road\, Sawtell NSW 2452\, NSW\, 2452
RRULE:FREQ=DAILY;INTERVAL=1;UNTIL=20200614T000000Z
END:VEVENT
END:VCALENDAR
