BEGIN:VCALENDAR
VERSION:2.0
PRODID:-//My Community Diary//iCal Event//EN
CALSCALE:GREGORIAN
METHOD:PUBLISH
BEGIN:VEVENT
UID:698bd6e0-6acb-45ab-8659-2472e6b52027
DTSTAMP:20260424T160626Z
DTSTART:20210217T080000Z
DTEND:20210217T170000Z
SUMMARY:Registered Nurse - Womens Health - Hughenden
DESCRIPTION:True Relationships & Reproductive Health at Hughenden Hospital. Please confirm precise times with the service provider.
LOCATION:\, Richmond Hill Drive\, Hughenden\, QLD\, 4821\, QLD\, 4821
END:VEVENT
END:VCALENDAR
