BEGIN:VCALENDAR
VERSION:2.0
PRODID:-//My Community Diary//iCal Event//EN
CALSCALE:GREGORIAN
METHOD:PUBLISH
BEGIN:VEVENT
UID:5610b955-8d84-436d-8491-e35eefc0f02d
DTSTAMP:20260424T155959Z
DTSTART:20230309T190000Z
DTEND:20230309T210000Z
SUMMARY:Based Comedy at Last Night on Earth
DESCRIPTION:Last Night on Earth is shaking things up\, bringing you comedy in Southport on Thursdays. Comedy at Last Night on Earth in Southport every Thursday at 7 pm with a bang! Seating is limited and gas masks are more acceptable to wear than ever – get your tickets via the website.\n\nEntry Cost\nAll tickets $20  - General Admission with drink.
LOCATION:\, 50 Nerang Street\, Southport\, QLD 4215\, QLD\, 4215
RRULE:FREQ=WEEKLY;INTERVAL=1;BYDAY=TH;UNTIL=20240329T000000Z
END:VEVENT
END:VCALENDAR
