BEGIN:VCALENDAR
VERSION:2.0
PRODID:-//My Community Diary//iCal Event//EN
CALSCALE:GREGORIAN
METHOD:PUBLISH
BEGIN:VEVENT
UID:8f6cb210-0d1c-40c4-b15a-4f264babd1bf
DTSTAMP:20260424T160517Z
DTSTART:20201210T080000Z
DTEND:20201210T170000Z
SUMMARY:Optometry - Blackall
DESCRIPTION:Fitzpatrick Family Optometrists at Blackall Hospital. Please confirm precise times with the service provider. Please contact 1800 008 020 for more information about this visiting service.
LOCATION:\, Shamrock Street\, Blackall\, QLD\, 4472\, QLD\, 4472
END:VEVENT
END:VCALENDAR
