BEGIN:VCALENDAR
VERSION:2.0
PRODID:-//My Community Diary//iCal Event//EN
CALSCALE:GREGORIAN
METHOD:PUBLISH
BEGIN:VEVENT
UID:b4341780-0a3d-4279-8e4e-3891b879da58
DTSTAMP:20260424T164512Z
DTSTART:20240329T010000Z
DTEND:20240329T230000Z
SUMMARY:Back O' Bourke Easter Festival
DESCRIPTION:The Back O' Bourke Easter Festival is a multi-day celebration\, with events and festivities for the whole family over the Easter weekend. It's a fabulous weekend not to be missed!\n\nBack O' Bourke Easter Festival is a great time of the year for families to come back and visit Bourke and reunite with their loved ones. \n\nPlease refer to a year-to-date program for any activities you may be interested in over this period!
LOCATION:\, 49 Mooculta Street\, Bourke\, NSW 2840\, NSW\, 2840
RRULE:FREQ=DAILY;INTERVAL=1;UNTIL=20250402T000000Z
END:VEVENT
END:VCALENDAR
