BEGIN:VCALENDAR
VERSION:2.0
PRODID:-//My Community Diary//iCal Event//EN
CALSCALE:GREGORIAN
METHOD:PUBLISH
BEGIN:VEVENT
UID:a7a98864-922f-4ede-a2c7-a467cfe2aee1
DTSTAMP:20260424T155451Z
DTSTART:20210201T080000Z
DTEND:20210201T170000Z
SUMMARY:Optometry - Texas
DESCRIPTION:Franz Felfer Optometrist at Texas Multipurpose Health Service. Please confirm precise times with the service provider. Please contact 0418 799 009 or franzfelfer@hotmail.com for more information about this visiting service.
LOCATION:\, Mingoola Road\, Texas\, QLD\, 4385\, QLD\, 4385
END:VEVENT
END:VCALENDAR
