BEGIN:VCALENDAR
VERSION:2.0
PRODID:-//My Community Diary//iCal Event//EN
CALSCALE:GREGORIAN
METHOD:PUBLISH
BEGIN:VEVENT
UID:52065aaf-378f-48ba-9501-f8412516acdd
DTSTAMP:20260424T160625Z
DTSTART:20210222T080000Z
DTEND:20210222T170000Z
SUMMARY:Registered Nurse - Womens Health - Julia Creek
DESCRIPTION:True Relationships & Reproductive Health at McKinlay Shire Multi-Purpose Health Service. Please confirm precise times with the service provider.
LOCATION:\, 1 Burke Street\, Julia Creek\, QLD\, 4823\, QLD\, 4823
END:VEVENT
END:VCALENDAR
