BEGIN:VCALENDAR
VERSION:2.0
PRODID:-//My Community Diary//iCal Event//EN
CALSCALE:GREGORIAN
METHOD:PUBLISH
BEGIN:VEVENT
UID:dcb22111-08fb-4218-bf3f-dfaffd01d0aa
DTSTAMP:20260424T160521Z
DTSTART:20210222T080000Z
DTEND:20210222T170000Z
SUMMARY:General Practitioner - Womens Health - Julia Creek
DESCRIPTION:True Relationships & Reproductive Health at McKinlay Shire Multi-Purpose Health Service. Please confirm precise times with the service provider.
LOCATION:\, 1 Burke Street\, Julia Creek\, QLD\, 4823\, QLD\, 4823
END:VEVENT
END:VCALENDAR
