BEGIN:VCALENDAR
VERSION:2.0
PRODID:-//My Community Diary//iCal Event//EN
CALSCALE:GREGORIAN
METHOD:PUBLISH
BEGIN:VEVENT
UID:b8d34525-c3e7-481f-859b-4f71b659bb8d
DTSTAMP:20260424T154951Z
DTSTART:20210131T080000Z
DTEND:20210131T170000Z
SUMMARY:Optometry - Inglewood
DESCRIPTION:Franz Felfer Optometrist at Inglewood Medical Centre. Please confirm precise times with the service provider. Please contact 0418 799 009 or franzfelfer@hotmail.com for more information about this visiting service.
LOCATION:\, 57 Albert Street\, Inglewood\, QLD\, 4387\, QLD\, 4387
END:VEVENT
END:VCALENDAR
