BEGIN:VCALENDAR
VERSION:2.0
PRODID:-//My Community Diary//iCal Event//EN
CALSCALE:GREGORIAN
METHOD:PUBLISH
BEGIN:VEVENT
UID:5c8e9247-ae5b-409d-aaf2-49248d552b75
DTSTAMP:20260424T181503Z
DTSTART:20240329T090000Z
DTEND:20240329T213000Z
SUMMARY:Rotary Club of Alexandra Easter Art Show
DESCRIPTION:The 54th Alexandra Rotary Easter Art Show will showcase the works of many talented artists\, both local and from further afield.\n\nThe Show has returned to its spiritual home\, the Alexandra Shire Hall\, a grand old building in walking distance from the commercial hub of Alexandra.\n\nAnother change this year is the introduction of a colour theme for Opening Night. Please wear yellow and blue\, make a donation or purchase a ribbon to support our Ukraine Food relief project.\n\nThe works on display include paintings in oil and watercolour\, sculptures\, photography\, and fine-quality woodworks.\n\nCome along on the opening night\, Good Friday evening to have the first opportunity to purchase works from those displayed\, and enjoy a drink and tasty nibbles .\n\nTickets for Opening Night can be pre-booked through Try Booking\, or purchased at the door on the night.\n\nEntry Cost\nAdult $5  - Gala opening Good Friday evening $25 includes drinks and hot and cold finger food. General admission for rest of weekend $5.\n\nChildren 17 and under - free entry.\n\nPatrons may enter on subsequent visits on presentation of catalogue.
LOCATION:\, 55 Grant Street\, Alexandra\, VIC 3714\, VIC\, 3714
RRULE:FREQ=DAILY;INTERVAL=1;UNTIL=20240402T000000Z
END:VEVENT
END:VCALENDAR
