BEGIN:VCALENDAR
VERSION:2.0
PRODID:-//My Community Diary//iCal Event//EN
CALSCALE:GREGORIAN
METHOD:PUBLISH
BEGIN:VEVENT
UID:279f3b80-d738-4ba6-8e4b-c4de83fc0117
DTSTAMP:20260424T173736Z
DTSTART;TZID=AUS Eastern Standard Time:20200414T100000
DTEND;TZID=AUS Eastern Standard Time:20200414T120000
SUMMARY:Get Mobile - Phonecalls and Contacts CANCELLED
DESCRIPTION:CHCC update regarding the Novel Coronavirus (COVID-19) pandemic:\n\nThe safety and wellbeing of our employees\, volunteers and customers is a priority for Coffs Harbour City Council and we are following the advice of the Australian Government\, World Health Organisation (WHO) and NSW Health in the implementation of workplace measures to help minimise any possible infections. Council is taking a risk management approach to the pandemic and seeking to minimise any potential impact.\n\nAs result all Council events and public programs run in our facilities have been postponed or suspended until advised.\n\nWe please ask that if you are showing any of the symptoms of COVID-19\, or have been in contact with anyone who has been diagnosed or showing symptoms of COVID-19\, that you not use a Council facility at this time.\n\nFor more information visit: https://www.news.coffsharbour.nsw.gov.au/2020/03/16/councils-novel-coronavirus-covid-19-safety-measures/\n\n__________________________________________\n\nCome along to one or all of our series of free smartphone group learning sessions\, Get Mobile.\n\nJoin up with other smartphone users to learn more about phone calls on your mobile. Explore adding contacts\, including forwarding them\, creating a favourites list and even personalising them with a photo.\n\nBring along your phone and we will work through all things smartphones in a welcoming\, social environment.\n\n&nbsp\;\n\nBook here\n
LOCATION:Harry Bailey Memorial Library\, 27 Duke Street\, Coffs Harbour NSW 2450\, NSW\, 2450
END:VEVENT
END:VCALENDAR
