BEGIN:VCALENDAR
VERSION:2.0
PRODID:-//My Community Diary//iCal Event//EN
CALSCALE:GREGORIAN
METHOD:PUBLISH
BEGIN:VEVENT
UID:4bb7a577-0f3d-4aba-bad2-5773a7bc4fe8
DTSTAMP:20260424T173609Z
DTSTART;TZID=AUS Eastern Standard Time:20200310T100000
DTEND;TZID=AUS Eastern Standard Time:20200310T120000
SUMMARY:Get Mobile - Settings and Customisation
DESCRIPTION:Come along to one or all of our series of free smartphone group learning sessions\, Get Mobile.\n\nJoin up with other smartphone users to learn about how to change settings and customise your phone to work better for you.\n\nBring along your smartphone and we will work through all things smartphones in a welcoming\, social environment.\n\n&nbsp\;\n\nBook here\n
LOCATION:Toormina Library\, Minorie Drive\, Toormina NSW\, Australia\, NSW\, 2452
END:VEVENT
END:VCALENDAR
