BEGIN:VCALENDAR
VERSION:2.0
PRODID:-//My Community Diary//iCal Event//EN
CALSCALE:GREGORIAN
METHOD:PUBLISH
BEGIN:VEVENT
UID:d6d508dd-ea8f-4996-8f46-3039d64e540c
DTSTAMP:20260424T175555Z
DTSTART;TZID=AUS Eastern Standard Time:20200323T100000
DTEND;TZID=AUS Eastern Standard Time:20200323T120000
SUMMARY:iPads & Biscuits - Email CANCELLED
DESCRIPTION:CHCC update regarding the Novel Coronavirus (COVID-19) pandemic:\n\nThe safety and wellbeing of our employees\, volunteers and customers is a priority for Coffs Harbour City Council and we are following the advice of the Australian Government\, World Health Organisation (WHO) and NSW Health in the implementation of workplace measures to help minimise any possible infections. Council is taking a risk management approach to the pandemic and seeking to minimise any potential impact.\n\nAs result all Council events and public programs run in our facilities have been postponed or suspended until the situation is reviewed again on 14 April 2020.\n\nWe please ask that if you are showing any of the symptoms of COVID-19\, or have been in contact with anyone who has been diagnosed or showing symptoms of COVID-19\, that you not use a Council facility at this time.\n\nFor more information visit: https://www.news.coffsharbour.nsw.gov.au/2020/03/16/councils-novel-coronavirus-covid-19-safety-measures/\n\n___________________________________________\n\nCome along to one or all of our series of free group learning sessions\, iPads Learning Circle.\n\nJoin up with other iPad users to extend your iPad skills. In this meet people will explore all things email including identifying spam\, general email etiquette and the function of bcc (blind carbon copy).\n\nJoin us in Toormina for the second of five sessions. Bring along your own device or borrow one of ours.\n\n&nbsp\;\n
LOCATION:Toormina Library\, Minorie Drive\, Toormina NSW\, Australia\, NSW\, 2452
END:VEVENT
END:VCALENDAR
