BEGIN:VCALENDAR
VERSION:2.0
PRODID:-//My Community Diary//iCal Event//EN
CALSCALE:GREGORIAN
METHOD:PUBLISH
BEGIN:VEVENT
UID:ccee2e2a-04c7-4e98-9a9e-397e6e026828
DTSTAMP:20260424T155946Z
DTSTART;TZID=E. Australia Standard Time:20200203T113000
DTEND;TZID=E. Australia Standard Time:20200203T123000
SUMMARY:Drug ARM MOSHPIT
DESCRIPTION:&nbsp\;Snacks\, Hot &amp\; Cold Drinks&nbsp\;with Referral Information\n
LOCATION:BHC Complex\, \, Warry St\, Fortitude Valley QLD\, Australia\, QLD\, 4006
RRULE:FREQ=WEEKLY;INTERVAL=1;BYDAY=MO;UNTIL=20231219T000000Z
END:VEVENT
END:VCALENDAR
