BEGIN:VCALENDAR
VERSION:2.0
PRODID:-//My Community Diary//iCal Event//EN
CALSCALE:GREGORIAN
METHOD:PUBLISH
BEGIN:VEVENT
UID:e52e6de4-3593-4c75-b11a-e198c88073ba
DTSTAMP:20260424T160640Z
DTSTART:20200119T060000Z
DTEND:20200119T120000Z
SUMMARY:Nundah Farmers Market
DESCRIPTION:The Nundah Fresh Farmer's Markets is the perfect place on a Sunday to pop in for your freshly roasted coffee and breakfast. While you are there\, you can stock up on your weekly fresh produce including gourmet meats\, fresh seafood\, local prawns\, herbs and spices and farm-fresh eggs.\n\nBrowse the wide selection of flowers and plants\, arts and crafts\, handmade gifts\, home decorations\, health and lifestyle products and alternative therapies.\n\n
LOCATION:\, Station Street\, Nundah\, QLD 4012\, QLD\, 4012
RRULE:FREQ=DAILY;INTERVAL=1;UNTIL=20241223T000000Z
END:VEVENT
END:VCALENDAR
