BEGIN:VCALENDAR
VERSION:2.0
PRODID:-//My Community Diary//iCal Event//EN
CALSCALE:GREGORIAN
METHOD:PUBLISH
BEGIN:VEVENT
UID:d3161de7-6020-435e-af5b-938f4358a4c5
DTSTAMP:20260424T164547Z
DTSTART:20240803T120000Z
DTEND:20240803T140000Z
SUMMARY:Eulah Creek Vintage Machinery Day and Cast Iron Chef  Weekend
DESCRIPTION:Look forward to seeing you in 2024!\n\nDates for 2024 are yet to be confirmed\, keep an eye out for more information to come!\n\nSaturday - Cast Iron Chef is a fun event for the whole family!\nIf you are a budding bush chef or think you have a winning camp oven recipe\, this is the event for you.Categories include open and junior Cast Iron Chef\, Cast Iron Dessert Chef and open and junior Billy Boiling Champ. There will be novelty games and Farmers Challenge with dinner to be served at 6.30pm.\n\nSunday - The Vintage Machinery and Family Fun Day is held at Beulah Park (Eulah Creek) Hall.\n\nIt is the perfect family day out with working heavy horse demonstrations\, vintage working machinery\, small motors (and big ones too)\, tractors\, vintage cars\, street rods\, blacksmithing and historical displays\, draught horses\, and sheep shearing. Art and craft stalls and a barbecue lunch for sale.  \nDevonshire Tea and scones\, coffee cart craft\, children's entertainment and much more.\nPloughs available for tractors\, Non-powered on-site camping with showers for AUD10 per camp (*Free camping for machinery day exhibitors)\, catering by Beulah Creek Hall\, Stallholders wanted (but not food).\n\nFollow signs from Narrabri along Kaputar Road.\n\nEntry Cost\nAdult $5  - Children under 15 are free but must be accompanied by an adult.\nCash only.
LOCATION:\, Eulah Creek Road Bulah Park (Eulah Creek) Hall\, Eulah Creek\, NSW 2390\, NSW\, 2390
RRULE:FREQ=DAILY;INTERVAL=1;UNTIL=20240805T000000Z
END:VEVENT
END:VCALENDAR
