BEGIN:VCALENDAR
VERSION:2.0
PRODID:-//My Community Diary//iCal Event//EN
CALSCALE:GREGORIAN
METHOD:PUBLISH
BEGIN:VEVENT
UID:92f320d7-8579-43d5-ba09-1270cfe717fa
DTSTAMP:20260424T170805Z
DTSTART;TZID=AUS Eastern Standard Time:20200718T080000
DTEND;TZID=AUS Eastern Standard Time:20200718T130000
SUMMARY:Trash & Treasure\, East Kurrajong
DESCRIPTION:TRASH &amp\; TREASURE\n\nEast Kurrajong School of Arts\, 1090 East Kurrajong Road\, East Kurrajong.\n\nSaturday\,18th JULY 2020\, 8am to 1pm.\n\n&nbsp\;\n\nBag a Bargain or clean up your unwanted items and make money.\n\nStalls with retro\, vintage\, collectables\, homemade and homegrown items\,&nbsp\;jewellery\, stamps &amp\; coins\, clothing\, household\, yard\, shed &amp\; car stuff and more…\n\nRaffle Prize - Load of Firewood.\n\nRefreshments available including homemade cakes and slices &amp\; BBQ.\n\n$20 per site. Enquiries or to book a site contact:\n\nKaren 02 4576 3052&nbsp\;\n
LOCATION:East Kurrajong School Of Arts\, 1090 East Kurrajong Road\, East Kurrajong NSW 2758\, NSW\, 2758
END:VEVENT
END:VCALENDAR
