BEGIN:VCALENDAR
VERSION:2.0
PRODID:-//My Community Diary//iCal Event//EN
CALSCALE:GREGORIAN
METHOD:PUBLISH
BEGIN:VEVENT
UID:a446d75c-50de-4558-b9a3-3b6e38d99426
DTSTAMP:20260424T171420Z
DTSTART;TZID=AUS Eastern Standard Time:20201128T160000
DTEND;TZID=AUS Eastern Standard Time:20201128T200000
SUMMARY:Christmas Twilight Markets\, East Kurrajong
DESCRIPTION:CHRISTMAS TWILIGHT MARKETS\n\nEast Kurrajong School of Arts\, 1090 East Kurrajong Road\, East Kurrajong.\n\nSaturday\, 28th NOVEMBER 2020\, 4pm to 8pm.\n\n\nThe Christmas Twilight Markets are an annual event at East Kurrajong School of Arts. Beat the heat\, stroll through the stalls\, and enjoy your Christmas shopping in the cool of the evening.\n\nStalls with art\, vintage\, collectables\, china and glassware\, stamps and coins\, hand made crafts and jewellery\, clothing\, books\, plants\, candles\, soaps\, skincare\, bloke stuff and more.\n\nRefreshments available including homemade cakes and slices &amp\; BBQ.\n$30 per site. Enquiries or to book a site contact:&nbsp\;Ann 02 4576 5031 or Karen 02 4576 3052\n
LOCATION:East Kurrajong School Of Arts\, 1090 East Kurrajong Road\, East Kurrajong NSW 2758\, NSW\, 2758
END:VEVENT
END:VCALENDAR
