BEGIN:VCALENDAR
VERSION:2.0
PRODID:-//My Community Diary//iCal Event//EN
CALSCALE:GREGORIAN
METHOD:PUBLISH
BEGIN:VEVENT
UID:91d6e897-6442-4261-8fe0-5dbd7e7dd68e
DTSTAMP:20260424T175457Z
DTSTART;TZID=AUS Eastern Standard Time:20200225T110000
DTEND;TZID=AUS Eastern Standard Time:20200225T150000
SUMMARY:Sun Sand & Surf Art Exhibition
DESCRIPTION:An Art Exhibition to celebrate Sawtell’s beach culture and environment.&nbsp\;Artists may enter works in any field of art that represents the sun sand and surf culture of Sawtell. All mediums and styles accepted including painting\, photography\, printing\, drawing and sculpture. Works must be limited to a metre square\, (exceptions on application) a limit of 4 entries per person. A digital image of your artwork to accompany the entry form.\nFor further information phone Pene on 0429 497 769 or the gallery during office hours 11 am to 3 pm\, closed Monday. 2 prizes to be awarded (Barney Miller's &amp\; People's Choice) - winners announced at the Sunset Soiree\, Sawtell Art Gallery\, Friday 27 March\, 5 pm. Light refreshments will be provided.&nbsp\;\n
LOCATION:Sawtell Art Group\, 1 Lyons Road\, Sawtell NSW 2452\, NSW\, 2452
RRULE:FREQ=DAILY;INTERVAL=1;UNTIL=20200328T000000Z
END:VEVENT
END:VCALENDAR
