BEGIN:VCALENDAR
VERSION:2.0
PRODID:-//My Community Diary//iCal Event//EN
CALSCALE:GREGORIAN
METHOD:PUBLISH
BEGIN:VEVENT
UID:6fe822a1-6def-47a8-86f3-e1935f8b51aa
DTSTAMP:20260424T161012Z
DTSTART;VALUE=DATE:20200123
DTEND;VALUE=DATE:20200124
SUMMARY:RFDS Clinic - Georgetown Hospital
DESCRIPTION:&nbsp\;Royal Flying Doctor Service of Australia (Queensland Section). To confirm precise times and to book an appointment please call 07 4062 1266. Clinic Day in week 2 is on Friday instead of Thursday.\n
LOCATION:Georgetown Hospital\, Georgetown Primary Health Centre\, High Street\, Georgetown QLD\, Australia\, QLD\, 4871
RRULE:FREQ=WEEKLY;INTERVAL=1;BYDAY=TH
END:VEVENT
END:VCALENDAR
