BEGIN:VCALENDAR
VERSION:2.0
PRODID:-//My Community Diary//iCal Event//EN
CALSCALE:GREGORIAN
METHOD:PUBLISH
BEGIN:VEVENT
UID:eb02230c-3c14-4f4a-8ff3-dd5a9aff25b7
DTSTAMP:20260424T160644Z
DTSTART;VALUE=DATE:20200114
DTEND;VALUE=DATE:20200115
SUMMARY:RFDS  Primary Health Care Centre - Lockhart River
DESCRIPTION:Royal Flying Doctor Service of Australia (Queensland Section). To confirm precise times and to book an appointment please call 07 4060 7155\n
LOCATION:Lockhart River Primary Health Centre\, Pucheewoo Street\, Lockhart QLD\, Australia\, QLD\, 4892
RRULE:FREQ=WEEKLY;INTERVAL=1;BYDAY=TU,WE,TH
END:VEVENT
END:VCALENDAR
