BEGIN:VCALENDAR
VERSION:2.0
PRODID:-//My Community Diary//iCal Event//EN
CALSCALE:GREGORIAN
METHOD:PUBLISH
BEGIN:VEVENT
UID:8787eaa8-adee-4428-8713-cbeabd76d4aa
DTSTAMP:20260424T173136Z
DTSTART;VALUE=DATE:20200122
DTEND;VALUE=DATE:20200123
SUMMARY:RFDS Clinic Primary Health - Forsayth
DESCRIPTION:Royal Flying Doctor Service of Australia (Queensland Section). To confirm precise times and to book an appointment please call 07 4062 5372\n
LOCATION:Forsayth Primary Health Centre\, Fourth Street\, Forsayth QLD 4871\, QLD\, 4871
RRULE:FREQ=WEEKLY;INTERVAL=2;BYDAY=WE
END:VEVENT
END:VCALENDAR
