BEGIN:VCALENDAR
VERSION:2.0
PRODID:-//My Community Diary//iCal Event//EN
CALSCALE:GREGORIAN
METHOD:PUBLISH
BEGIN:VEVENT
UID:bc55ec54-72a1-4807-aeb4-68e1c3672061
DTSTAMP:20260424T160626Z
DTSTART;VALUE=DATE:20200113
DTEND;VALUE=DATE:20200114
SUMMARY:RFDS Clinic Hospital - Croydon
DESCRIPTION:Royal Flying Doctor Service of Australia (Queensland Section). Week 1 and week 3 with Child Health Nurse.\n\n&nbsp\;To confirm precise times and to book an appointment please call 07 4748 7000\n
LOCATION:Croydon Primary Health Centre\, Sircom Street\, Croydon QLD 4871\, QLD\, 4871
RRULE:FREQ=WEEKLY;INTERVAL=1;BYDAY=MO
END:VEVENT
END:VCALENDAR
