BEGIN:VCALENDAR
VERSION:2.0
PRODID:-//My Community Diary//iCal Event//EN
CALSCALE:GREGORIAN
METHOD:PUBLISH
BEGIN:VEVENT
UID:98553b33-9d42-4403-b02e-21a3fe4ba5ad
DTSTAMP:20260424T160521Z
DTSTART:20210214T080000Z
DTEND:20210214T170000Z
SUMMARY:Physician - Dermatology - Miami
DESCRIPTION:Darben Medical Pty Ltd at Kalwun Health Centre - Miami. Please confirm precise times with the service provider.
LOCATION:\, 2020 Gold Coast Highway\, Miami\, QLD\, 4220\, QLD\, 4220
END:VEVENT
END:VCALENDAR
