BEGIN:VCALENDAR
VERSION:2.0
PRODID:-//My Community Diary//iCal Event//EN
CALSCALE:GREGORIAN
METHOD:PUBLISH
BEGIN:VEVENT
UID:c783c3fc-f244-4e46-9fd0-f8affe9be89f
DTSTAMP:20260424T155034Z
DTSTART:20210120T080000Z
DTEND:20210120T170000Z
SUMMARY:Optometry - Charleville
DESCRIPTION:Dr Rowan Porter at Ideas Van Mobile Van Clinic - Charleville. Please confirm precise times with the service provider. Please contact 07 3343 2578  for more information about this visiting service.
LOCATION:\, Charleville\, QLD\, 4470\, QLD\, 4470
END:VEVENT
END:VCALENDAR
