BEGIN:VCALENDAR
VERSION:2.0
PRODID:-//My Community Diary//iCal Event//EN
CALSCALE:GREGORIAN
METHOD:PUBLISH
BEGIN:VEVENT
UID:b1a12108-5926-4e3b-ac56-89a6162056b4
DTSTAMP:20260424T173735Z
DTSTART;TZID=AUS Eastern Standard Time:20200306T190000
DTEND;TZID=AUS Eastern Standard Time:20200306T200000
SUMMARY:the perception experiment
DESCRIPTION:A trickle of salt becomes a torrent\, becomes a cloud\, becomes a pattern\; capturing breath and heartbeat before slipping away…\n\nthe perception experiment&nbsp\;invites audiences to explore time and space in an innovative and experiential live dance performance\, sound and sculptural installation. Through provocative sensorial immersion\, choreographers Frankie Snowdon and Madeleine Krenek (GUTS Dance\, Central Australia) examines how the physical world may be experienced\, blurring its edges and offering an alternative view of how to navigate through it.\n\nWarning: Prolonged periods of darkness\, loud score\, smoke effects and salt particles. Late comers not admitted.\n\nWorkshop: Saturday 7 March - Time TBA\n
LOCATION:Coffs Harbour Jetty Theatre\, 337 Harbour Drive\, Coffs Harbour NSW 2450\, NSW\, 2450
RRULE:FREQ=DAILY;INTERVAL=1;COUNT=2
END:VEVENT
END:VCALENDAR
