BEGIN:VCALENDAR
VERSION:2.0
PRODID:-//My Community Diary//iCal Event//EN
CALSCALE:GREGORIAN
METHOD:PUBLISH
BEGIN:VEVENT
UID:eaf1a5af-9b91-4516-80f9-bf4ff10b7871
DTSTAMP:20260424T173736Z
DTSTART;TZID=AUS Eastern Standard Time:20200228T193000
DTEND;TZID=AUS Eastern Standard Time:20200228T213000
SUMMARY:Flickerfest - Best of Australian Short Films
DESCRIPTION:Celebrating 29 years\, FLiCKERFEST is Australia’s leading Academy® Award accredited and BAFTA-recognised Short Film Festival\, and the country’s largest Australian &amp\; International short film competition\, screening the best of shorts from Australia and around the world\, hand-picked from 3\,500 entries.\n\nFLiCKERFEST remains a platform for celebrating the most entertaining and innovative short filmmaking from Australia and around the world. FLICKERFEST returns to the Jetty Theatre with the Best of Australian Shorts.&nbsp\;\n\nThis is a one-off chance to see these electrifying short films before they continue their journey around the world.\n
LOCATION:Coffs Harbour Jetty Theatre\, 337 Harbour Drive\, Coffs Harbour NSW 2450\, NSW\, 2450
END:VEVENT
END:VCALENDAR
